BEGIN:VCALENDAR
VERSION:2.0
PRODID:-//Discover Siskiyou - ECPv6.15.20//NONSGML v1.0//EN
CALSCALE:GREGORIAN
METHOD:PUBLISH
X-WR-CALNAME:Discover Siskiyou
X-ORIGINAL-URL:https://discoversiskiyou.com
X-WR-CALDESC:Events for Discover Siskiyou
REFRESH-INTERVAL;VALUE=DURATION:PT1H
X-Robots-Tag:noindex
X-PUBLISHED-TTL:PT1H
BEGIN:VTIMEZONE
TZID:UTC
BEGIN:STANDARD
TZOFFSETFROM:+0000
TZOFFSETTO:+0000
TZNAME:UTC
DTSTART:20250101T000000
END:STANDARD
END:VTIMEZONE
BEGIN:VEVENT
DTSTART;TZID=UTC:20260509T140000
DTEND;TZID=UTC:20260509T200000
DTSTAMP:20260422T121733
CREATED:20260302T183838Z
LAST-MODIFIED:20260302T190639Z
UID:10003929-1778335200-1778356800@discoversiskiyou.com
SUMMARY:Spring Roller Skating
DESCRIPTION:Come to McCloud Dance Hall to Roller Skate this Spring! \nLimited loaner inline and roller skates available. \nFree Lesson before family skate.
URL:https://discoversiskiyou.com/event/spring-roller-skating/2026-05-09/
LOCATION:McCloud Dance Hall\, 104 Pine Street\, McCloud\, CA\, 96057\, United States
ATTACH;FMTTYPE=image/jpeg:https://discoversiskiyou.com/wp-content/uploads/2026/03/skate2.jpg
END:VEVENT
BEGIN:VEVENT
DTSTART;TZID=UTC:20260523T140000
DTEND;TZID=UTC:20260523T200000
DTSTAMP:20260422T121733
CREATED:20260302T183838Z
LAST-MODIFIED:20260302T190639Z
UID:10003930-1779544800-1779566400@discoversiskiyou.com
SUMMARY:Spring Roller Skating
DESCRIPTION:Come to McCloud Dance Hall to Roller Skate this Spring! \nLimited loaner inline and roller skates available. \nFree Lesson before family skate.
URL:https://discoversiskiyou.com/event/spring-roller-skating/2026-05-23/
LOCATION:McCloud Dance Hall\, 104 Pine Street\, McCloud\, CA\, 96057\, United States
ATTACH;FMTTYPE=image/jpeg:https://discoversiskiyou.com/wp-content/uploads/2026/03/skate2.jpg
END:VEVENT
END:VCALENDAR