BEGIN:VCALENDAR
VERSION:2.0
PRODID:-//Discover Siskiyou - ECPv6.15.20//NONSGML v1.0//EN
CALSCALE:GREGORIAN
METHOD:PUBLISH
X-ORIGINAL-URL:https://discoversiskiyou.com
X-WR-CALDESC:Events for Discover Siskiyou
REFRESH-INTERVAL;VALUE=DURATION:PT1H
X-Robots-Tag:noindex
X-PUBLISHED-TTL:PT1H
BEGIN:VTIMEZONE
TZID:UTC
BEGIN:STANDARD
TZOFFSETFROM:+0000
TZOFFSETTO:+0000
TZNAME:UTC
DTSTART:20250101T000000
END:STANDARD
END:VTIMEZONE
BEGIN:VEVENT
DTSTART;VALUE=DATE:20260502
DTEND;VALUE=DATE:20260503
DTSTAMP:20260425T194248
CREATED:20260316T154355Z
LAST-MODIFIED:20260316T154355Z
UID:10003946-1777680000-1777766399@discoversiskiyou.com
SUMMARY:Life in the Fast Lane: A tribute to the Eagles
DESCRIPTION:
URL:https://discoversiskiyou.com/event/life-in-the-fast-lane-a-tribute-to-the-eagles/
LOCATION:Rain Rock Casino\, 777 Casino Way\, Yreka\, CA\, 96097
ATTACH;FMTTYPE=image/jpeg:https://discoversiskiyou.com/wp-content/uploads/2026/03/Eagles-2.jpg
END:VEVENT
END:VCALENDAR