BEGIN:VCALENDAR
VERSION:2.0
PRODID:-//Discover Siskiyou - ECPv6.15.20//NONSGML v1.0//EN
CALSCALE:GREGORIAN
METHOD:PUBLISH
X-WR-CALNAME:Discover Siskiyou
X-ORIGINAL-URL:https://discoversiskiyou.com
X-WR-CALDESC:Events for Discover Siskiyou
REFRESH-INTERVAL;VALUE=DURATION:PT1H
X-Robots-Tag:noindex
X-PUBLISHED-TTL:PT1H
BEGIN:VTIMEZONE
TZID:UTC
BEGIN:STANDARD
TZOFFSETFROM:+0000
TZOFFSETTO:+0000
TZNAME:UTC
DTSTART:20250101T000000
END:STANDARD
END:VTIMEZONE
BEGIN:VEVENT
DTSTART;VALUE=DATE:20260516
DTEND;VALUE=DATE:20260517
DTSTAMP:20260423T091450
CREATED:20260414T213309Z
LAST-MODIFIED:20260414T213309Z
UID:10004092-1778889600-1778975999@discoversiskiyou.com
SUMMARY:Weed Community Yard Sale
DESCRIPTION:
URL:https://discoversiskiyou.com/event/weed-community-yard-sale/
LOCATION:Weed\, CA\, Weed\, CA
ATTACH;FMTTYPE=image/jpeg:https://discoversiskiyou.com/wp-content/uploads/2026/04/weedyard.jpg
END:VEVENT
END:VCALENDAR